BEGIN:VCALENDAR
VERSION:2.0
PRODID: -//Q4 Inc.//EN
METHOD:PUBLISH
BEGIN:VTIMEZONE
TZID:America/New_York
X-LIC-LOCATION:America/New_York
BEGIN:DAYLIGHT
TZOFFSETFROM:-0500
TZOFFSETTO:-0400
TZNAME:EDT
DTSTART:19700308T020000
RRULE:FREQ=YEARLY;BYMONTH=3;BYDAY=2SU
END:DAYLIGHT
BEGIN:STANDARD
TZOFFSETFROM:-0400
TZOFFSETTO:-0500
TZNAME:EST
DTSTART:19701101T020000
RRULE:FREQ=YEARLY;BYMONTH=11;BYDAY=1SU
END:STANDARD
END:VTIMEZONE
BEGIN:VEVENT
ORGANIZER:MAILTO:alerts@investors.aflac.com
DTSTART;TZID="America/New_York":20211028T090000
DTEND;TZID="America/New_York":20211028T100000
LOCATION:
UID:b863c29b-a9e6-4c4b-8a91-2e8e1d7745d7
DTSTAMP:20260421T223456
SUMMARY:Third quarter teleconference (webcast event)
DESCRIPTION: View More Information: https://investors.aflac.com/events-and-presentations/events-calendar/event-details/2021/Third-quarter-teleconference-webcast-event/default.aspx
URL;VALUE=URI:https://investors.aflac.com/events-and-presentations/events-calendar/event-details/2021/Third-quarter-teleconference-webcast-event/default.aspx
PRIORITY:5
CLASS:PUBLIC
END:VEVENT
END:VCALENDAR
